Workbook

Sheet за звернен. громад.без направле
D1: Додаток
D2: до рішення виконавчого комітету
D3: Новомосковської міської ради
D4: від 04.08.2022р. №357/0/6-22
A6: Тарифи на платні послуги, які надаються комунальним некомеційним підприємством "Новомосковська центральна міська лікарня" Новомосковської міської ради"
A7: № з/п | B7: Найменування послуги | C7: Од.виміру | D7: Тариф без ПДВ, грн. | E7: ПДВ, грн. | F7: Тариф з ПДВ, грн.
A8: Тарифи на платні медичні послуги, які надаються відділенням профілактичних медичних оглядів
A9: 1 | B9: Попередній медичний огляд кандидатів у водіїв транспортних засобів | C9: 1 огляд | D9: 276 | E9: 55.2 | F9: =D9+E9 -> 331.2
B10: л/д заг.аналіз сечі | C10: 1 дослідження | D10: 25 | E10: 5 | F10: 30
B11: л/д заг.аналіз крові | C11: 1 дослідження | D11: 71 | E11: 14.2 | F11: =D11+E11 -> 85.2
B12: “Група крові та Rh - фактор” | C12: 1 дослідження | D12: =[1]лаборат.досл.!$F$16 -> 61 | E12: 12.2 | F12: =D12+E12 -> 73.2
B13: “Аналіз крові на цукор” | C13: 1 дослідження | D13: 21 | E13: 4.2 | F13: =D13+E13 -> 25.2
B14: взяття капіл.крові | C14: 1 дослідження | D14: 1 | E14: 0 | F14: =D14+E14 -> 1
B15: Разом | D15: =D9+D10+D11+D12+D13+D14 -> 455 | E15: =E9+E10+E11+E12+E13+E14 -> 90.8 | F15: =F9+F10+F11+F12+F13+F14 -> 545.8
A16: 2 | B16: Періодичний медичний огляд кандидатів у водіїв транспортних засобів | C16: 1 огляд | D16: 276 | E16: 55.2 | F16: =D16+E16 -> 331.2
B17: л/д заг.аналіз сечі | C17: 1 дослідження | D17: 25 | E17: 5 | F17: 30
B18: л/д заг.аналіз крові | C18: 1 дослідження | D18: 71 | E18: 14.2 | F18: =D18+E18 -> 85.2
B19: “Аналіз крові на цукор” | C19: 1 дослідження | D19: 21 | E19: 4.2 | F19: =D19+E19 -> 25.2
B20: взяття капіл.крові | C20: 1 дослідження | D20: 1 | E20: 0 | F20: =D20+E20 -> 1
B21: Разом | D21: =D16+D17+D18+D19+D20 -> 394 | E21: =E16+E17+E18+E19+E20 -> 78.6 | F21: =F16+F17+F18+F19+F20 -> 472.6
A22: 3 | B22: Дозвіл на право отримання, зберігання, носіння та використання вогнепальної зброї, в т.ч. мисливської та газової | C22: 1 огляд | D22: 246 | E22: 49.2 | F22: =D22+E22 -> 295.2
B23: л/д заг.аналіз сечі | C23: 1 дослідження | D23: 25 | E23: 5 | F23: 30
B24: л/д заг.аналіз крові | C24: 1 дослідження | D24: 71 | E24: 14.2 | F24: =D24+E24 -> 85.2
B25: “Аналіз крові на цукор” | C25: 1 дослідження | D25: 21 | E25: 4.2 | F25: =D25+E25 -> 25.2
B26: взяття капіл.крові | C26: 1 дослідження | D26: 1 | E26: 0 | F26: =D26+E26 -> 1
B27: Разом | D27: =D22+D23+D24+D25+D26 -> 364 | E27: =E22+E23+E24+E25+E26 -> 72.6 | F27: =F22+F23+F24+F25+F26 -> 436.6
A28: 4 | B28: Обов'язковий профілактичний медичний огляд працівників окремих професій, виробництв і організацій, діяльність яких пов'язана з обслуговуванням населення і може призвести до поширення інфекційних хвороб:
B29: Лікар-терапевт | C29: 1 огляд | D29: =[2]Зведення!$J$36 -> 35 | E29: =D29*20% -> 7 | F29: =D29+E29 -> 42
B30: Лікар - дерматовенеролог | C30: 1 огляд | D30: =[2]Зведення!$J$37 -> 37 | E30: =D30*20% -> 7.4 | F30: =D30+E30 -> 44.4
B31: Лікар - отоларинголог | C31: 1 огляд | D31: =[2]Зведення!$J$38 -> 35 | E31: =D31*20% -> 7 | F31: =D31+E31 -> 42
B32: л/д гр.крові на РМП | C32: 1 дослідження | D32: =[2]Зведення!$J$39 -> 25 | E32: =D32*20% -> 5 | F32: =D32+E32 -> 30
B33: л/д мазки на гонорею | C33: 1 дослідження | D33: =[2]Зведення!$J$40 -> 41 | E33: =D33*20% -> 8.2 | F33: =D33+E33 -> 49.2
B34: л/д на кишкові інфекції | C34: 1 дослідження | D34: =[2]Зведення!$J$41 -> 83 | E34: =D34*20% -> 16.6 | F34: =D34+E34 -> 99.6
B35: л/д на гельмінтози | C35: 1 дослідження | D35: =[2]Зведення!$J$42 -> 15 | E35: =D35*20% -> 3 | F35: =D35+E35 -> 18
B36: л/д на пат. стафілокок | C36: 1 дослідження | D36: =[2]Зведення!$J$43 -> 62 | E36: =D36*20% -> 12.4 | F36: =D36+E36 -> 74.4
B37: взяття капіл.крові | C37: 1 дослідження | D37: =[2]Зведення!$J$44 -> 1 | E37: 0 | F37: =D37+E37 -> 1
B38: Ложка Фолькмана одноразового використання | C38: 1 дослідження | D38: =[2]Зведення!$J$45 -> 8 | E38: 0 | F38: =D38+E38 -> 8
B39: Набір гінекологічний оглядовий стерильний № 1 | C39: 1 дослідження | D39: =[2]Зведення!$J$46 -> 25 | E39: 0 | F39: =D39+E39 -> 25
A40: 5 | B40: Попередній та періодичний мед.огляд працівників, зайнятих на важких роботах, роботах із шкідливими чи небезпечними умовами праці або таких, де є потреба у професійному доборі, щорічному обов’яхковому мед.огляді осіб віком до 21 року:
B41: Лікар -акушер - гінеколог | C41: 1 огляд | D41: =[2]Зведення!$J$48 -> 88 | E41: =D41*20% -> 17.6 | F41: =D41+E41 -> 105.6
B42: Лікар - дерматовенеролог | C42: 1 огляд | D42: =[2]Зведення!$J$49 -> 37 | E42: =D42*20% -> 7.4 | F42: =D42+E42 -> 44.4
B43: Лікар - терапевт | C43: 1 огляд | D43: =[2]Зведення!$J$50 -> 29 | E43: =D43*20% -> 5.8 | F43: =D43+E43 -> 34.8
B44: Лікар -офтальмолог | C44: 1 огляд | D44: =[2]Зведення!$J$51 -> 82 | E44: =D44*20% -> 16.4 | F44: =D44+E44 -> 98.4
B45: Лікар -хірург | C45: 1 огляд | D45: 35 | E45: =D45*20% -> 7 | F45: =D45+E45 -> 42
B46: Лікар - невропатолог | C46: 1 огляд | D46: =[2]Зведення!$J$53 -> 38 | E46: =D46*20% -> 7.6 | F46: =D46+E46 -> 45.6
B47: Лікар - отоларинголог | C47: 1 огляд | D47: =[2]Зведення!$J$54 -> 35 | E47: =D47*20% -> 7 | F47: =D47+E47 -> 42
B48: л/д заг.аналіз крові | C48: 1 дослідження | D48: =[2]Зведення!$J$55 -> 71 | E48: =D48*20% -> 14.2 | F48: =D48+E48 -> 85.2
B49: л/д заг.аналіз сечі | C49: 1 дослідження | D49: =[2]Зведення!$J$56 -> 25 | E49: =D49*20% -> 5 | F49: =D49+E49 -> 30
B50: взяття капіл.крові | C50: 1 дослідження | D50: =[2]Зведення!$J$57 -> 1 | E50: 0 | F50: =D50+E50 -> 1
B51: Набір гінекологічний оглядовий стерильний № 1 | C51: 1 дослідження | D51: =[2]Зведення!$J$58 -> 25 | E51: 0 | F51: =D51+E51 -> 25
B52: л/д кров на ГГТ | C52: 1 дослідження | D52: =[2]Зведення!$J$59 -> 50 | E52: =D52*20% -> 10 | F52: =D52+E52 -> 60
B53: л/д визн.біліруб.АлТ,АсТ | C53: 1 дослідження | D53: =[2]Зведення!$J$60 -> 65 | E53: =D53*20% -> 13 | F53: =D53+E53 -> 78
B54: взяття венозної крові | C54: 1 дослідження | D54: =[2]Зведення!$J$61 -> 2 | E54: 0 | F54: =D54+E54 -> 2
B55: л/д кров на цукор | C55: 1 дослідження | D55: =[2]Зведення!$J$62 -> 21 | E55: =D55*20% -> 4.2 | F55: =D55+E55 -> 25.2
B56: л/д карбоксигемоглобін | C56: 1 дослідження | D56: =[2]Зведення!$J$63 -> 53 | E56: =D56*20% -> 10.6 | F56: =D56+E56 -> 63.6
B57: л/д визначення вмісту заліза | C57: 1 дослідження | D57: =[2]Зведення!$J$64 -> 50 | E57: =D57*20% -> 10 | F57: =D57+E57 -> 60
B58: л/д визначення активності лужної фосфатази | C58: 1 дослідження | D58: =[2]Зведення!$J$65 -> 44 | E58: =D58*20% -> 8.8 | F58: =D58+E58 -> 52.8
B59: л/д метгемоглобін | C59: 1 дослідження | D59: =[2]Зведення!$J$66 -> 36 | E59: =D59*20% -> 7.2 | F59: =D59+E59 -> 43.2
B60: л/д холінестерази | C60: 1 дослідження | D60: =[2]Зведення!$J$67 -> 42 | E60: =D60*20% -> 8.4 | F60: =D60+E60 -> 50.4
B61: л/д тельца Гейнца | C61: 1 дослідження | D61: =[2]Зведення!$J$68 -> 43 | E61: =D61*20% -> 8.6 | F61: =D61+E61 -> 51.6
B62: мазок на цитологію | C62: 1 дослідження | D62: =[2]Зведення!$J$69 -> 39 | E62: =D62*20% -> 7.8 | F62: =D62+E62 -> 46.8
B63: мазок на флору | C63: 1 дослідження | D63: =[2]Зведення!$J$70 -> 41 | E63: =D63*20% -> 8.2 | F63: =D63+E63 -> 49.2
B64: фннкціональне дослідження ЕКГ | C64: 1 дослідження | D64: =[2]Зведення!$J$71 -> 65 | E64: =D64*20% -> 13 | F64: =D64+E64 -> 78
A65: 6 | B65: Обов'язковий профілактичний наркологічний огляд | C65: 1 огляд | D65: 106 | E65: 21.2 | F65: =D65+E65 -> 127.2
B66: л/д кров на ГГТ | C66: 1 дослідження | D66: 50 | E66: 10 | F66: =D66+E66 -> 60
B67: взяття капіл.крові | C67: 1 дослідження | D67: 1 | E67: 0 | F67: =D67+E67 -> 1
B68: Разом | D68: =D65+D66+D67 -> 157 | E68: =E65+E66+E67 -> 31.2 | F68: =F65+F66+F67 -> 188.2
A69: 7 | B69: Обов’язкові попередній та періодичний психіатричні огляди | C69: 1 огляд | D69: =[2]Зведення!$J$76 -> 106 | E69: =[2]Зведення!$K$76 -> 21.2 | F69: =D69+E69 -> 127.2
A71: Лабораторні, діагностичні та консультативні послуги за зверненням громадян, що надаються без направлення лікаря.
A72: 1 | B72: л/д гр.крові на РМП | C72: 1 дослідження | D72: 25 | F72: =D72+E72 -> 25
A73: 2 | B73: л/д мазки на гонорею | C73: 1 дослідження | D73: =[1]лаборат.досл.!$F$11 -> 41 | F73: =D73+E73 -> 41
A74: 3 | B74: л/д на кишкові інфекції | C74: 1 дослідження | D74: 83 | F74: =D74+E74 -> 83
A75: 4 | B75: л/д на пат. стафілокок | C75: 1 дослідження | D75: 62 | F75: =D75+E75 -> 62
A76: 5 | B76: л/д заг.аналіз крові | C76: 1 дослідження | D76: =[1]лаборат.досл.!$F$14 -> 71 | F76: =D76+E76 -> 71
A77: 6 | B77: л/д заг.аналіз сечі | C77: 1 дослідження | D77: =[1]лаборат.досл.!$F$15 -> 25 | F77: =D77+E77 -> 25
A78: 7 | B78: “Група крові та Rh - фактор” | C78: 1 дослідження | D78: =[1]лаборат.досл.!$F$16 -> 61 | F78: =D78+E78 -> 61
A79: 8 | B79: “Аналіз крові на цукор” | C79: 1 дослідження | D79: =[1]лаборат.досл.!$F$17 -> 21 | F79: =D79+E79 -> 21
A80: 9 | B80: “Визначення вмісту заліза” | C80: 1 дослідження | D80: =[1]лаборат.досл.!$F$18 -> 50 | F80: =D80+E80 -> 50
A81: 10 | B81: л/д кров на ГГТ | C81: 1 дослідження | D81: =[1]лаборат.досл.!$F$19 -> 50 | F81: =D81+E81 -> 50
A82: 11 | B82: л/д визн.біліруб.АлТ,АсТ | C82: 1 дослідження | D82: =[1]лаборат.досл.!$F$20 -> 65 | F82: =D82+E82 -> 65
A83: 12 | B83: л/д карбоксигемоглобін | C83: 1 дослідження | D83: =[1]лаборат.досл.!$F$21 -> 53 | F83: =D83+E83 -> 53
A84: 13 | B84: л/д визначення активності лужної фосфатази | C84: 1 дослідження | D84: =[1]лаборат.досл.!$F$22 -> 44 | F84: =D84+E84 -> 44
A85: 14 | B85: л/д метгемоглобін | C85: 1 дослідження | D85: =[1]лаборат.досл.!$F$23 -> 36 | F85: =D85+E85 -> 36
A86: 15 | B86: л/д холінестерази | C86: 1 дослідження | D86: =[1]лаборат.досл.!$F$24 -> 42 | F86: =D86+E86 -> 42
A87: 16 | B87: л/д тельца Гейнца | C87: 1 дослідження | D87: =[1]лаборат.досл.!$F$25 -> 43 | F87: =D87+E87 -> 43
A88: 17 | B88: мазок на цитологію | C88: 1 дослідження | D88: =[1]лаборат.досл.!$F$26 -> 39 | F88: =D88+E88 -> 39
A89: 18 | B89: мазок на флору | C89: 1 дослідження | D89: =[1]лаборат.досл.!$F$27 -> 41 | F89: =D89+E89 -> 41
A90: 19 | B90: “Аналіз крові ” (на аналізаторі) | C90: 1 дослідження | D90: =[1]лаборат.досл.!$F$28 -> 37 | F90: =D90+E90 -> 37
A91: 20 | B91: “Коагулоргамма” | C91: 1 дослідження | D91: =[1]лаборат.досл.!$F$29 -> 65 | F91: =D91+E91 -> 65
A92: 21 | B92: “Електроліти” | C92: 1 дослідження | D92: =[1]лаборат.досл.!$F$30 -> 39 | F92: =D92+E92 -> 39
A93: 22 | B93: “Креатинин” | C93: 1 дослідження | D93: =[1]лаборат.досл.!$F$31 -> 17 | F93: =D93+E93 -> 17
A94: 23 | B94: “Lамілаза сечі” | C94: 1 дослідження | D94: =[1]лаборат.досл.!$F$32 -> 26 | F94: =D94+E94 -> 26
A95: 24 | B95: “Lамілаза крові” | C95: 1 дослідження | D95: =[1]лаборат.досл.!$F$33 -> 26 | F95: =D95+E95 -> 26
A96: 25 | B96: “Мочевина” | C96: 1 дослідження | D96: =[1]лаборат.досл.!$F$34 -> 38 | F96: =D96+E96 -> 38
A97: 26 | B97: "Рівень сечової кислоти" | C97: 1 дослідження | D97: =[1]лаборат.досл.!$F$35 -> 45 | F97: =D97+E97 -> 45
A98: 27 | B98: "Ревмокомплекс" | C98: 1 дослідження | D98: =[1]лаборат.досл.!$F$36 -> 86 | F98: =D98+E98 -> 86
A99: 28 | B99: “Загальний білок” | C99: 1 дослідження | D99: =[1]лаборат.досл.!$F$37 -> 21 | F99: =D99+E99 -> 21
A100: 29 | B100: “Аналіз крові на холестерин в крові” | C100: 1 дослідження | D100: =[1]лаборат.досл.!$F$38 -> 21 | F100: =D100+E100 -> 21
A101: 30 | B101: “Аналіз кальцій крові” | C101: 1 дослідження | D101: ='[3]калькул.кальцій крові'!$H$50 -> 23 | F101: =[1]лаборат.досл.!$F$39 -> 23
A102: 31 | B102: “Аналіз нирковий комплекс” | C102: 1 дослідження | D102: ='[3]калькул.нирковий комплекс'!$H$52 -> 34 | F102: =[1]лаборат.досл.!$F$40 -> 34
...
