Workbook

Sheet за звернен. громад.без направле
D1: Додаток
D2: до рішення виконавчого комітету
D3: Новомосковської міської ради
D4: від 04.08.2022р. №357/0/6-22
A6: Тарифи на платні послуги, які надаються комунальним некомеційним підприємством "Новомосковська центральна міська лікарня" Новомосковської міської ради"
A7: № з/п | B7: Найменування послуги | C7: Од.виміру | D7: Тариф без ПДВ, грн. | E7: ПДВ, грн. | F7: Тариф з ПДВ, грн.
A8: Тарифи на платні медичні послуги, які надаються відділенням профілактичних медичних оглядів
A9: 1 | B9: Попередній медичний огляд кандидатів у водіїв транспортних засобів | C9: 1 огляд | D9: 276 | E9: 55.2 | F9: =D9+E9 -> 331.2
B10: л/д заг.аналіз сечі | C10: 1 дослідження | D10: 25 | E10: 5 | F10: 30
B11: л/д заг.аналіз крові | C11: 1 дослідження | D11: 71 | E11: 14.2 | F11: =D11+E11 -> 85.2
B12: “Група крові та Rh - фактор” | C12: 1 дослідження | D12: =[1]лаборат.досл.!$F$16 -> 61 | E12: 12.2 | F12: =D12+E12 -> 73.2
B13: “Аналіз крові на цукор” | C13: 1 дослідження | D13: 21 | E13: 4.2 | F13: =D13+E13 -> 25.2
B14: взяття капіл.крові | C14: 1 дослідження | D14: 1 | E14: 0 | F14: =D14+E14 -> 1
B15: Разом | D15: =D9+D10+D11+D12+D13+D14 -> 455 | E15: =E9+E10+E11+E12+E13+E14 -> 90.8 | F15: =F9+F10+F11+F12+F13+F14 -> 545.8
A16: 2 | B16: Періодичний медичний огляд кандидатів у водіїв транспортних засобів | C16: 1 огляд | D16: 276 | E16: 55.2 | F16: =D16+E16 -> 331.2
B17: л/д заг.аналіз сечі | C17: 1 дослідження | D17: 25 | E17: 5 | F17: 30
B18: л/д заг.аналіз крові | C18: 1 дослідження | D18: 71 | E18: 14.2 | F18: =D18+E18 -> 85.2
B19: “Аналіз крові на цукор” | C19: 1 дослідження | D19: 21 | E19: 4.2 | F19: =D19+E19 -> 25.2
B20: взяття капіл.крові | C20: 1 дослідження | D20: 1 | E20: 0 | F20: =D20+E20 -> 1
B21: Разом | D21: =D16+D17+D18+D19+D20 -> 394 | E21: =E16+E17+E18+E19+E20 -> 78.6 | F21: =F16+F17+F18+F19+F20 -> 472.6
A22: 3 | B22: Дозвіл на право отримання, зберігання, носіння та використання вогнепальної зброї, в т.ч. мисливської та газової | C22: 1 огляд | D22: 246 | E22: 49.2 | F22: =D22+E22 -> 295.2
B23: л/д заг.аналіз сечі | C23: 1 дослідження | D23: 25 | E23: 5 | F23: 30
B24: л/д заг.аналіз крові | C24: 1 дослідження | D24: 71 | E24: 14.2 | F24: =D24+E24 -> 85.2
B25: “Аналіз крові на цукор” | C25: 1 дослідження | D25: 21 | E25: 4.2 | F25: =D25+E25 -> 25.2
B26: взяття капіл.крові | C26: 1 дослідження | D26: 1 | E26: 0 | F26: =D26+E26 -> 1
B27: Разом | D27: =D22+D23+D24+D25+D26 -> 364 | E27: =E22+E23+E24+E25+E26 -> 72.6 | F27: =F22+F23+F24+F25+F26 -> 436.6
A28: 4 | B28: Обов'язковий профілактичний медичний огляд працівників окремих професій, виробництв і організацій, діяльність яких пов'язана з обслуговуванням населення і може призвести до поширення інфекційних хвороб:
B29: Лікар-терапевт | C29: 1 огляд | D29: =[2]Зведення!$J$36 -> 35 | E29: =D29*20% -> 7 | F29: =D29+E29 -> 42
B30: Лікар - дерматовенеролог | C30: 1 огляд | D30: =[2]Зведення!$J$37 -> 37 | E30: =D30*20% -> 7.4 | F30: =D30+E30 -> 44.4
B31: Лікар - отоларинголог | C31: 1 огляд | D31: =[2]Зведення!$J$38 -> 35 | E31: =D31*20% -> 7 | F31: =D31+E31 -> 42
B32: л/д гр.крові на РМП | C32: 1 дослідження | D32: =[2]Зведення!$J$39 -> 25 | E32: =D32*20% -> 5 | F32: =D32+E32 -> 30
B33: л/д мазки на гонорею | C33: 1 дослідження | D33: =[2]Зведення!$J$40 -> 41 | E33: =D33*20% -> 8.2 | F33: =D33+E33 -> 49.2
B34: л/д на кишкові інфекції | C34: 1 дослідження | D34: =[2]Зведення!$J$41 -> 83 | E34: =D34*20% -> 16.6 | F34: =D34+E34 -> 99.6
B35: л/д на гельмінтози | C35: 1 дослідження | D35: =[2]Зведення!$J$42 -> 15 | E35: =D35*20% -> 3 | F35: =D35+E35 -> 18
B36: л/д на пат. стафілокок | C36: 1 дослідження | D36: =[2]Зведення!$J$43 -> 62 | E36: =D36*20% -> 12.4 | F36: =D36+E36 -> 74.4
B37: взяття капіл.крові | C37: 1 дослідження | D37: =[2]Зведення!$J$44 -> 1 | E37: 0 | F37: =D37+E37 -> 1
B38: Ложка Фолькмана одноразового використання | C38: 1 дослідження | D38: =[2]Зведення!$J$45 -> 8 | E38: 0 | F38: =D38+E38 -> 8
B39: Набір гінекологічний оглядовий стерильний № 1 | C39: 1 дослідження | D39: =[2]Зведення!$J$46 -> 25 | E39: 0 | F39: =D39+E39 -> 25
A40: 5 | B40: Попередній та періодичний мед.огляд працівників, зайнятих на важких роботах, роботах із шкідливими чи небезпечними умовами праці або таких, де є потреба у професійному доборі, щорічному обов’яхковому мед.огляді осіб віком до 21 року:
B41: Лікар -акушер - гінеколог | C41: 1 огляд | D41: =[2]Зведення!$J$48 -> 88 | E41: =D41*20% -> 17.6 | F41: =D41+E41 -> 105.6
...
